Package: fedup Version: 1.8.0 Command: rm -rf fedup.buildbin-libdir && mkdir fedup.buildbin-libdir && /Users/biocbuild/BBS/utils/build-universal.sh fedup_1.8.0.tar.gz /Library/Frameworks/R.framework/Resources/bin/R fedup.buildbin-libdir StartedAt: 2023-10-16 09:24:03 -0400 (Mon, 16 Oct 2023) EndedAt: 2023-10-16 09:24:34 -0400 (Mon, 16 Oct 2023) EllapsedTime: 30.3 seconds RetCode: 0 Status: OK PackageFile: fedup_1.8.0.tgz PackageFileSize: 4.306 MiB