Package: fdrame Version: 1.72.0 Command: chmod a+r fdrame -R && F:\biocbuild\bbs-3.17-bioc\R\bin\R.exe CMD build --keep-empty-dirs --no-resave-data fdrame StartedAt: 2023-10-15 19:12:20 -0400 (Sun, 15 Oct 2023) EndedAt: 2023-10-15 19:12:33 -0400 (Sun, 15 Oct 2023) EllapsedTime: 13.1 seconds RetCode: 0 Status: OK PackageFile: fdrame_1.72.0.tar.gz PackageFileSize: 915.9 KiB