Package: fdrame Version: 1.72.0 Command: /home/biocbuild/bbs-3.17-bioc/R/bin/R CMD check --install=check:fdrame.install-out.txt --library=/home/biocbuild/bbs-3.17-bioc/R/site-library --timings fdrame_1.72.0.tar.gz StartedAt: 2023-10-15 21:18:16 -0400 (Sun, 15 Oct 2023) EndedAt: 2023-10-15 21:18:35 -0400 (Sun, 15 Oct 2023) EllapsedTime: 19.3 seconds RetCode: 0 Status: OK CheckDir: fdrame.Rcheck Warnings: 0