Package: fdrame Version: 1.72.0 Command: /home/biocbuild/bbs-3.17-bioc/R/bin/R CMD build --keep-empty-dirs --no-resave-data fdrame StartedAt: 2023-10-15 16:47:35 -0400 (Sun, 15 Oct 2023) EndedAt: 2023-10-15 16:47:40 -0400 (Sun, 15 Oct 2023) EllapsedTime: 4.7 seconds RetCode: 0 Status: OK PackageFile: fdrame_1.72.0.tar.gz PackageFileSize: 914.5 KiB