Package: fdrame Version: 1.72.0 Command: rm -rf fdrame.buildbin-libdir && mkdir fdrame.buildbin-libdir && /Users/biocbuild/BBS/utils/build-universal.sh fdrame_1.72.0.tar.gz /Library/Frameworks/R.framework/Resources/bin/R fdrame.buildbin-libdir StartedAt: 2023-10-16 09:23:50 -0400 (Mon, 16 Oct 2023) EndedAt: 2023-10-16 09:24:03 -0400 (Mon, 16 Oct 2023) EllapsedTime: 13.0 seconds RetCode: 0 Status: OK PackageFile: fdrame_1.72.0.tgz PackageFileSize: 1.003 MiB