Package: fastreeR Version: 1.4.0 Command: chmod a+r fastreeR -R && F:\biocbuild\bbs-3.17-bioc\R\bin\R.exe CMD build --keep-empty-dirs --no-resave-data fastreeR StartedAt: 2023-10-15 19:11:15 -0400 (Sun, 15 Oct 2023) EndedAt: 2023-10-15 19:13:35 -0400 (Sun, 15 Oct 2023) EllapsedTime: 140.1 seconds RetCode: 0 Status: OK PackageFile: fastreeR_1.4.0.tar.gz PackageFileSize: 1.925 MiB