Package: fastreeR Version: 1.4.0 Command: rm -rf fastreeR.buildbin-libdir && mkdir fastreeR.buildbin-libdir && F:\biocbuild\bbs-3.17-bioc\R\bin\R.exe CMD INSTALL --build --library=fastreeR.buildbin-libdir fastreeR_1.4.0.tar.gz StartedAt: 2023-10-16 08:47:23 -0400 (Mon, 16 Oct 2023) EndedAt: 2023-10-16 08:47:31 -0400 (Mon, 16 Oct 2023) EllapsedTime: 8.1 seconds RetCode: 0 Status: OK PackageFile: fastreeR_1.4.0.zip PackageFileSize: 1.947 MiB