Package: fastreeR Version: 1.4.0 Command: /home/biocbuild/bbs-3.17-bioc/R/bin/R CMD check --install=check:fastreeR.install-out.txt --library=/home/biocbuild/bbs-3.17-bioc/R/site-library --timings fastreeR_1.4.0.tar.gz StartedAt: 2023-10-15 21:17:10 -0400 (Sun, 15 Oct 2023) EndedAt: 2023-10-15 21:18:21 -0400 (Sun, 15 Oct 2023) EllapsedTime: 71.0 seconds RetCode: 0 Status: OK CheckDir: fastreeR.Rcheck Warnings: 0