Package: fastreeR Version: 1.4.0 Command: /home/biocbuild/bbs-3.17-bioc/R/bin/R CMD build --keep-empty-dirs --no-resave-data fastreeR StartedAt: 2023-10-15 16:46:38 -0400 (Sun, 15 Oct 2023) EndedAt: 2023-10-15 16:47:35 -0400 (Sun, 15 Oct 2023) EllapsedTime: 57.1 seconds RetCode: 0 Status: OK PackageFile: fastreeR_1.4.0.tar.gz PackageFileSize: 2.008 MiB