Package: fastLiquidAssociation Version: 1.36.0 Command: /home/biocbuild/bbs-3.17-bioc/R/bin/R CMD INSTALL fastLiquidAssociation StartedAt: 2023-10-15 15:33:59 -0400 (Sun, 15 Oct 2023) EndedAt: 2023-10-15 15:34:20 -0400 (Sun, 15 Oct 2023) EllapsedTime: 20.5 seconds RetCode: 0 Status: OK