Package: fastLiquidAssociation Version: 1.36.0 Command: /home/biocbuild/bbs-3.17-bioc/R/bin/R CMD check --install=check:fastLiquidAssociation.install-out.txt --library=/home/biocbuild/bbs-3.17-bioc/R/site-library --timings fastLiquidAssociation_1.36.0.tar.gz StartedAt: 2023-10-15 21:17:05 -0400 (Sun, 15 Oct 2023) EndedAt: 2023-10-15 21:21:42 -0400 (Sun, 15 Oct 2023) EllapsedTime: 276.7 seconds RetCode: 0 Status: WARNINGS CheckDir: fastLiquidAssociation.Rcheck Warnings: 1