Package: fastLiquidAssociation Version: 1.36.0 Command: /Library/Frameworks/R.framework/Resources/bin/R CMD build --keep-empty-dirs --no-resave-data fastLiquidAssociation StartedAt: 2023-10-15 18:17:44 -0400 (Sun, 15 Oct 2023) EndedAt: 2023-10-15 18:21:05 -0400 (Sun, 15 Oct 2023) EllapsedTime: 201.2 seconds RetCode: 0 Status: OK PackageFile: fastLiquidAssociation_1.36.0.tar.gz PackageFileSize: 751 KiB