Package: farms Version: 1.52.0 Command: chmod a+r farms -R && F:\biocbuild\bbs-3.17-bioc\R\bin\R.exe CMD build --keep-empty-dirs --no-resave-data farms StartedAt: 2023-10-15 19:09:27 -0400 (Sun, 15 Oct 2023) EndedAt: 2023-10-15 19:10:39 -0400 (Sun, 15 Oct 2023) EllapsedTime: 72.2 seconds RetCode: 0 Status: OK PackageFile: farms_1.52.0.tar.gz PackageFileSize: 288.9 KiB