Package: farms Version: 1.52.0 Command: rm -rf farms.buildbin-libdir && mkdir farms.buildbin-libdir && F:\biocbuild\bbs-3.17-bioc\R\bin\R.exe CMD INSTALL --build --library=farms.buildbin-libdir farms_1.52.0.tar.gz StartedAt: 2023-10-16 08:47:18 -0400 (Mon, 16 Oct 2023) EndedAt: 2023-10-16 08:47:29 -0400 (Mon, 16 Oct 2023) EllapsedTime: 11.3 seconds RetCode: 0 Status: OK PackageFile: farms_1.52.0.zip PackageFileSize: 278 KiB