Package: farms Version: 1.52.0 Command: /home/biocbuild/bbs-3.17-bioc/R/bin/R CMD build --keep-empty-dirs --no-resave-data farms StartedAt: 2023-10-15 16:46:31 -0400 (Sun, 15 Oct 2023) EndedAt: 2023-10-15 16:47:52 -0400 (Sun, 15 Oct 2023) EllapsedTime: 81.6 seconds RetCode: 0 Status: OK PackageFile: farms_1.52.0.tar.gz PackageFileSize: 287 KiB