Package: farms Version: 1.52.0 Command: /Library/Frameworks/R.framework/Resources/bin/R CMD build --keep-empty-dirs --no-resave-data farms StartedAt: 2023-10-15 18:17:44 -0400 (Sun, 15 Oct 2023) EndedAt: 2023-10-15 18:21:03 -0400 (Sun, 15 Oct 2023) EllapsedTime: 199.0 seconds RetCode: 0 Status: OK PackageFile: farms_1.52.0.tar.gz PackageFileSize: 332.5 KiB