Package: factR Version: 1.2.0 Command: F:\biocbuild\bbs-3.17-bioc\R\bin\R.exe CMD check --no-multiarch --install=check:factR.install-out.txt --library=F:\biocbuild\bbs-3.17-bioc\R\library --no-vignettes --timings factR_1.2.0.tar.gz StartedAt: 2023-10-12 01:56:26 -0400 (Thu, 12 Oct 2023) EndedAt: 2023-10-12 01:58:46 -0400 (Thu, 12 Oct 2023) EllapsedTime: 140.4 seconds RetCode: 0 Status: OK CheckDir: factR.Rcheck Warnings: 0