Package: factR Version: 1.2.0 Command: rm -rf factR.buildbin-libdir && mkdir factR.buildbin-libdir && F:\biocbuild\bbs-3.17-bioc\R\bin\R.exe CMD INSTALL --build --library=factR.buildbin-libdir factR_1.2.0.tar.gz StartedAt: 2023-10-12 08:33:16 -0400 (Thu, 12 Oct 2023) EndedAt: 2023-10-12 08:33:30 -0400 (Thu, 12 Oct 2023) EllapsedTime: 14.4 seconds RetCode: 0 Status: OK PackageFile: factR_1.2.0.zip PackageFileSize: 1.463 MiB