Package: factR Version: 1.2.0 Command: /home/biocbuild/bbs-3.17-bioc/R/bin/R CMD build --keep-empty-dirs --no-resave-data factR StartedAt: 2023-10-15 16:46:21 -0400 (Sun, 15 Oct 2023) EndedAt: 2023-10-15 16:50:54 -0400 (Sun, 15 Oct 2023) EllapsedTime: 273.1 seconds RetCode: 1 Status: ERROR PackageFile: None PackageFileSize: NA