Package: factR Version: 1.2.0 Command: /Library/Frameworks/R.framework/Resources/bin/R CMD INSTALL factR StartedAt: 2023-10-15 15:32:49 -0400 (Sun, 15 Oct 2023) EndedAt: 2023-10-15 15:33:22 -0400 (Sun, 15 Oct 2023) EllapsedTime: 32.9 seconds RetCode: 0 Status: OK