Package: factR Version: 1.2.0 Command: rm -rf factR.buildbin-libdir && mkdir factR.buildbin-libdir && /Users/biocbuild/BBS/utils/build-universal.sh factR_1.2.0.tar.gz /Library/Frameworks/R.framework/Resources/bin/R factR.buildbin-libdir StartedAt: 2023-10-13 09:18:37 -0400 (Fri, 13 Oct 2023) EndedAt: 2023-10-13 09:19:14 -0400 (Fri, 13 Oct 2023) EllapsedTime: 37.1 seconds RetCode: 0 Status: OK PackageFile: factR_1.2.0.tgz PackageFileSize: 1.793 MiB