Package: factDesign Version: 1.76.0 Command: F:\biocbuild\bbs-3.17-bioc\R\bin\R.exe CMD check --no-multiarch --install=check:factDesign.install-out.txt --library=F:\biocbuild\bbs-3.17-bioc\R\library --no-vignettes --timings factDesign_1.76.0.tar.gz StartedAt: 2023-10-16 02:05:50 -0400 (Mon, 16 Oct 2023) EndedAt: 2023-10-16 02:06:20 -0400 (Mon, 16 Oct 2023) EllapsedTime: 30.1 seconds RetCode: 0 Status: OK CheckDir: factDesign.Rcheck Warnings: 0