Package: factDesign Version: 1.76.0 Command: chmod a+r factDesign -R && F:\biocbuild\bbs-3.17-bioc\R\bin\R.exe CMD build --keep-empty-dirs --no-resave-data factDesign StartedAt: 2023-10-15 19:09:04 -0400 (Sun, 15 Oct 2023) EndedAt: 2023-10-15 19:09:18 -0400 (Sun, 15 Oct 2023) EllapsedTime: 13.3 seconds RetCode: 0 Status: OK PackageFile: factDesign_1.76.0.tar.gz PackageFileSize: 218 KiB