Package: factDesign Version: 1.76.0 Command: rm -rf factDesign.buildbin-libdir && mkdir factDesign.buildbin-libdir && F:\biocbuild\bbs-3.17-bioc\R\bin\R.exe CMD INSTALL --build --library=factDesign.buildbin-libdir factDesign_1.76.0.tar.gz StartedAt: 2023-10-16 08:47:11 -0400 (Mon, 16 Oct 2023) EndedAt: 2023-10-16 08:47:18 -0400 (Mon, 16 Oct 2023) EllapsedTime: 6.8 seconds RetCode: 0 Status: OK PackageFile: factDesign_1.76.0.zip PackageFileSize: 235.4 KiB