Package: factDesign Version: 1.76.0 Command: /home/biocbuild/bbs-3.17-bioc/R/bin/R CMD check --install=check:factDesign.install-out.txt --library=/home/biocbuild/bbs-3.17-bioc/R/site-library --timings factDesign_1.76.0.tar.gz StartedAt: 2023-10-15 21:16:36 -0400 (Sun, 15 Oct 2023) EndedAt: 2023-10-15 21:17:09 -0400 (Sun, 15 Oct 2023) EllapsedTime: 33.6 seconds RetCode: 0 Status: OK CheckDir: factDesign.Rcheck Warnings: 0