Package: factDesign Version: 1.76.0 Command: /Library/Frameworks/R.framework/Resources/bin/R CMD INSTALL factDesign StartedAt: 2023-10-15 15:07:43 -0400 (Sun, 15 Oct 2023) EndedAt: 2023-10-15 15:08:22 -0400 (Sun, 15 Oct 2023) EllapsedTime: 38.8 seconds RetCode: 0 Status: OK