Package: factDesign Version: 1.76.0 Command: /Library/Frameworks/R.framework/Resources/bin/R CMD check --install=check:factDesign.install-out.txt --library=/Library/Frameworks/R.framework/Resources/library --no-vignettes --timings factDesign_1.76.0.tar.gz StartedAt: 2023-10-16 01:38:10 -0400 (Mon, 16 Oct 2023) EndedAt: 2023-10-16 01:39:12 -0400 (Mon, 16 Oct 2023) EllapsedTime: 61.8 seconds RetCode: 0 Status: OK CheckDir: factDesign.Rcheck Warnings: 0