Package: factDesign Version: 1.76.0 Command: /Library/Frameworks/R.framework/Resources/bin/R CMD build --keep-empty-dirs --no-resave-data factDesign StartedAt: 2023-10-15 18:17:22 -0400 (Sun, 15 Oct 2023) EndedAt: 2023-10-15 18:17:50 -0400 (Sun, 15 Oct 2023) EllapsedTime: 27.4 seconds RetCode: 0 Status: OK PackageFile: factDesign_1.76.0.tar.gz PackageFileSize: 217 KiB