git_url: https://git.bioconductor.org/packages/factDesign git_branch: RELEASE_3_17 git_last_commit: 89ffd29 git_last_commit_date: 2023-04-25 09:39:25 -0400 (Tue, 25 Apr 2023) Package: factDesign Version: 1.76.0 Maintainer: Denise Scholtens MaintainerEmail: dscholtens at northwestern.edu