Package: fabia Version: 2.46.0 Command: chmod a+r fabia -R && F:\biocbuild\bbs-3.17-bioc\R\bin\R.exe CMD build --keep-empty-dirs --no-resave-data fabia StartedAt: 2023-10-15 19:08:46 -0400 (Sun, 15 Oct 2023) EndedAt: 2023-10-15 19:09:19 -0400 (Sun, 15 Oct 2023) EllapsedTime: 32.4 seconds RetCode: 0 Status: OK PackageFile: fabia_2.46.0.tar.gz PackageFileSize: 787.8 KiB