Package: fCI Version: 1.30.0 Command: /home/biocbuild/bbs-3.17-bioc/R/bin/R CMD check --install=check:fCI.install-out.txt --library=/home/biocbuild/bbs-3.17-bioc/R/site-library --timings fCI_1.30.0.tar.gz StartedAt: 2023-10-15 21:17:31 -0400 (Sun, 15 Oct 2023) EndedAt: 2023-10-15 21:18:15 -0400 (Sun, 15 Oct 2023) EllapsedTime: 44.4 seconds RetCode: 0 Status: OK CheckDir: fCI.Rcheck Warnings: 0