Package: fCCAC Version: 1.26.0 Command: chmod a+r fCCAC -R && F:\biocbuild\bbs-3.17-bioc\R\bin\R.exe CMD build --keep-empty-dirs --no-resave-data fCCAC StartedAt: 2023-10-15 19:11:31 -0400 (Sun, 15 Oct 2023) EndedAt: 2023-10-15 19:12:19 -0400 (Sun, 15 Oct 2023) EllapsedTime: 47.5 seconds RetCode: 0 Status: OK PackageFile: fCCAC_1.26.0.tar.gz PackageFileSize: 3.495 MiB