Package: fCCAC Version: 1.26.0 Command: /home/biocbuild/bbs-3.17-bioc/R/bin/R CMD check --install=check:fCCAC.install-out.txt --library=/home/biocbuild/bbs-3.17-bioc/R/site-library --timings fCCAC_1.26.0.tar.gz StartedAt: 2023-10-15 21:17:17 -0400 (Sun, 15 Oct 2023) EndedAt: 2023-10-15 21:22:27 -0400 (Sun, 15 Oct 2023) EllapsedTime: 310.5 seconds RetCode: 0 Status: OK CheckDir: fCCAC.Rcheck Warnings: 0