Package: fCCAC Version: 1.26.0 Command: /home/biocbuild/bbs-3.17-bioc/R/bin/R CMD build --keep-empty-dirs --no-resave-data fCCAC StartedAt: 2023-10-15 16:46:56 -0400 (Sun, 15 Oct 2023) EndedAt: 2023-10-15 16:48:12 -0400 (Sun, 15 Oct 2023) EllapsedTime: 76.0 seconds RetCode: 0 Status: OK PackageFile: fCCAC_1.26.0.tar.gz PackageFileSize: 3.499 MiB