Package: fCCAC Version: 1.26.0 Command: /Library/Frameworks/R.framework/Resources/bin/R CMD INSTALL fCCAC StartedAt: 2023-10-15 16:27:51 -0400 (Sun, 15 Oct 2023) EndedAt: 2023-10-15 16:29:40 -0400 (Sun, 15 Oct 2023) EllapsedTime: 109.1 seconds RetCode: 0 Status: OK