Package: extraChIPs Version: 1.4.6 Command: /Library/Frameworks/R.framework/Resources/bin/R CMD INSTALL extraChIPs StartedAt: 2023-10-15 15:57:22 -0400 (Sun, 15 Oct 2023) EndedAt: 2023-10-15 16:00:17 -0400 (Sun, 15 Oct 2023) EllapsedTime: 175.4 seconds RetCode: 0 Status: OK