Package: extraChIPs Version: 1.4.6 Command: /Library/Frameworks/R.framework/Resources/bin/R CMD check --install=check:extraChIPs.install-out.txt --library=/Library/Frameworks/R.framework/Resources/library --no-vignettes --timings extraChIPs_1.4.6.tar.gz StartedAt: 2023-10-16 01:37:58 -0400 (Mon, 16 Oct 2023) EndedAt: 2023-10-16 01:57:17 -0400 (Mon, 16 Oct 2023) EllapsedTime: 1159.0 seconds RetCode: 0 Status: OK CheckDir: extraChIPs.Rcheck Warnings: 0