Package: extraChIPs Version: 1.4.6 Command: /Library/Frameworks/R.framework/Resources/bin/R CMD build --keep-empty-dirs --no-resave-data extraChIPs StartedAt: 2023-10-15 18:17:00 -0400 (Sun, 15 Oct 2023) EndedAt: 2023-10-15 18:21:20 -0400 (Sun, 15 Oct 2023) EllapsedTime: 260.3 seconds RetCode: 0 Status: OK PackageFile: extraChIPs_1.4.6.tar.gz PackageFileSize: 2.951 MiB