Package: extraChIPs Version: 1.4.6 Command: rm -rf extraChIPs.buildbin-libdir && mkdir extraChIPs.buildbin-libdir && /Users/biocbuild/BBS/utils/build-universal.sh extraChIPs_1.4.6.tar.gz /Library/Frameworks/R.framework/Resources/bin/R extraChIPs.buildbin-libdir StartedAt: 2023-10-16 09:23:11 -0400 (Mon, 16 Oct 2023) EndedAt: 2023-10-16 09:26:25 -0400 (Mon, 16 Oct 2023) EllapsedTime: 194.4 seconds RetCode: 0 Status: OK PackageFile: extraChIPs_1.4.6.tgz PackageFileSize: 2.556 MiB