Package: exomeCopy Version: 1.46.0 Command: /Library/Frameworks/R.framework/Resources/bin/R CMD check --install=check:exomeCopy.install-out.txt --library=/Library/Frameworks/R.framework/Resources/library --no-vignettes --timings exomeCopy_1.46.0.tar.gz StartedAt: 2023-10-16 01:35:15 -0400 (Mon, 16 Oct 2023) EndedAt: 2023-10-16 01:39:34 -0400 (Mon, 16 Oct 2023) EllapsedTime: 258.5 seconds RetCode: 0 Status: OK CheckDir: exomeCopy.Rcheck Warnings: 0