Package: exomeCopy Version: 1.46.0 Command: rm -rf exomeCopy.buildbin-libdir && mkdir exomeCopy.buildbin-libdir && /Users/biocbuild/BBS/utils/build-universal.sh exomeCopy_1.46.0.tar.gz /Library/Frameworks/R.framework/Resources/bin/R exomeCopy.buildbin-libdir StartedAt: 2023-10-16 09:22:38 -0400 (Mon, 16 Oct 2023) EndedAt: 2023-10-16 09:23:29 -0400 (Mon, 16 Oct 2023) EllapsedTime: 51.3 seconds RetCode: 0 Status: OK PackageFile: exomeCopy_1.46.0.tgz PackageFileSize: 927.7 KiB