Package: evaluomeR Version: 1.16.0 Command: /home/biocbuild/bbs-3.17-bioc/R/bin/R CMD check --install=check:evaluomeR.install-out.txt --library=/home/biocbuild/bbs-3.17-bioc/R/site-library --timings evaluomeR_1.16.0.tar.gz StartedAt: 2023-10-15 21:12:34 -0400 (Sun, 15 Oct 2023) EndedAt: 2023-10-15 21:16:35 -0400 (Sun, 15 Oct 2023) EllapsedTime: 241.4 seconds RetCode: 0 Status: OK CheckDir: evaluomeR.Rcheck Warnings: 0