Package: evaluomeR Version: 1.16.0 Command: /Library/Frameworks/R.framework/Resources/bin/R CMD INSTALL evaluomeR StartedAt: 2023-10-15 15:46:52 -0400 (Sun, 15 Oct 2023) EndedAt: 2023-10-15 15:48:53 -0400 (Sun, 15 Oct 2023) EllapsedTime: 121.1 seconds RetCode: 0 Status: OK