Package: evaluomeR Version: 1.16.0 Command: /Library/Frameworks/R.framework/Resources/bin/R CMD build --keep-empty-dirs --no-resave-data evaluomeR StartedAt: 2023-10-15 18:14:51 -0400 (Sun, 15 Oct 2023) EndedAt: 2023-10-15 18:17:22 -0400 (Sun, 15 Oct 2023) EllapsedTime: 150.8 seconds RetCode: 0 Status: OK PackageFile: evaluomeR_1.16.0.tar.gz PackageFileSize: 831.6 KiB