Package: eudysbiome Version: 1.30.0 Command: chmod a+r eudysbiome -R && F:\biocbuild\bbs-3.17-bioc\R\bin\R.exe CMD build --keep-empty-dirs --no-resave-data eudysbiome StartedAt: 2023-10-15 19:05:52 -0400 (Sun, 15 Oct 2023) EndedAt: 2023-10-15 19:06:14 -0400 (Sun, 15 Oct 2023) EllapsedTime: 22.1 seconds RetCode: 0 Status: OK PackageFile: eudysbiome_1.30.0.tar.gz PackageFileSize: 4.223 MiB