Package: eudysbiome Version: 1.30.0 Command: rm -rf eudysbiome.buildbin-libdir && mkdir eudysbiome.buildbin-libdir && F:\biocbuild\bbs-3.17-bioc\R\bin\R.exe CMD INSTALL --build --library=eudysbiome.buildbin-libdir eudysbiome_1.30.0.tar.gz StartedAt: 2023-10-16 08:46:37 -0400 (Mon, 16 Oct 2023) EndedAt: 2023-10-16 08:46:55 -0400 (Mon, 16 Oct 2023) EllapsedTime: 17.2 seconds RetCode: 0 Status: OK PackageFile: eudysbiome_1.30.0.zip PackageFileSize: 4.26 MiB