Package: eudysbiome Version: 1.30.0 Command: /home/biocbuild/bbs-3.17-bioc/R/bin/R CMD check --install=check:eudysbiome.install-out.txt --library=/home/biocbuild/bbs-3.17-bioc/R/site-library --timings eudysbiome_1.30.0.tar.gz StartedAt: 2023-10-15 21:12:31 -0400 (Sun, 15 Oct 2023) EndedAt: 2023-10-15 21:14:04 -0400 (Sun, 15 Oct 2023) EllapsedTime: 93.4 seconds RetCode: 0 Status: OK CheckDir: eudysbiome.Rcheck Warnings: 0