Package: eudysbiome Version: 1.30.0 Command: /home/biocbuild/bbs-3.17-bioc/R/bin/R CMD build --keep-empty-dirs --no-resave-data eudysbiome StartedAt: 2023-10-15 16:45:01 -0400 (Sun, 15 Oct 2023) EndedAt: 2023-10-15 16:45:18 -0400 (Sun, 15 Oct 2023) EllapsedTime: 17.6 seconds RetCode: 0 Status: OK PackageFile: eudysbiome_1.30.0.tar.gz PackageFileSize: 4.223 MiB