Package: escheR Version: 1.0.0 Command: chmod a+r escheR -R && F:\biocbuild\bbs-3.17-bioc\R\bin\R.exe CMD build --keep-empty-dirs --no-resave-data escheR StartedAt: 2023-10-15 19:05:18 -0400 (Sun, 15 Oct 2023) EndedAt: 2023-10-15 19:11:34 -0400 (Sun, 15 Oct 2023) EllapsedTime: 376.3 seconds RetCode: 0 Status: OK PackageFile: escheR_1.0.0.tar.gz PackageFileSize: 632.7 KiB