Package: escheR Version: 1.0.0 Command: rm -rf escheR.buildbin-libdir && mkdir escheR.buildbin-libdir && F:\biocbuild\bbs-3.17-bioc\R\bin\R.exe CMD INSTALL --build --library=escheR.buildbin-libdir escheR_1.0.0.tar.gz StartedAt: 2023-10-16 08:46:32 -0400 (Mon, 16 Oct 2023) EndedAt: 2023-10-16 08:47:26 -0400 (Mon, 16 Oct 2023) EllapsedTime: 53.4 seconds RetCode: 0 Status: OK PackageFile: escheR_1.0.0.zip PackageFileSize: 647 KiB